BEGIN:VCALENDAR
VERSION:2.0
PRODID:-//Castle Cary Library - ECPv6.15.14//NONSGML v1.0//EN
CALSCALE:GREGORIAN
METHOD:PUBLISH
X-WR-CALNAME:Castle Cary Library
X-ORIGINAL-URL:https://castlecarylibrary.org.uk
X-WR-CALDESC:Events for Castle Cary Library
REFRESH-INTERVAL;VALUE=DURATION:PT1H
X-Robots-Tag:noindex
X-PUBLISHED-TTL:PT1H
BEGIN:VTIMEZONE
TZID:Europe/London
BEGIN:DAYLIGHT
TZOFFSETFROM:+0000
TZOFFSETTO:+0100
TZNAME:BST
DTSTART:20250330T010000
END:DAYLIGHT
BEGIN:STANDARD
TZOFFSETFROM:+0100
TZOFFSETTO:+0000
TZNAME:GMT
DTSTART:20251026T010000
END:STANDARD
BEGIN:DAYLIGHT
TZOFFSETFROM:+0000
TZOFFSETTO:+0100
TZNAME:BST
DTSTART:20260329T010000
END:DAYLIGHT
BEGIN:STANDARD
TZOFFSETFROM:+0100
TZOFFSETTO:+0000
TZNAME:GMT
DTSTART:20261025T010000
END:STANDARD
BEGIN:DAYLIGHT
TZOFFSETFROM:+0000
TZOFFSETTO:+0100
TZNAME:BST
DTSTART:20270328T010000
END:DAYLIGHT
BEGIN:STANDARD
TZOFFSETFROM:+0100
TZOFFSETTO:+0000
TZNAME:GMT
DTSTART:20271031T010000
END:STANDARD
END:VTIMEZONE
BEGIN:VEVENT
DTSTART;TZID=Europe/London:20260214T093000
DTEND;TZID=Europe/London:20260214T120000
DTSTAMP:20260421T112204
CREATED:20260114T102509Z
LAST-MODIFIED:20260114T102509Z
UID:144-1771061400-1771070400@castlecarylibrary.org.uk
SUMMARY:Book Sale 14 February 2026
DESCRIPTION:
URL:https://castlecarylibrary.org.uk/event/book-sale-14-february-2026/
LOCATION:Market House\, Castle Cary\, Castle Cary\, United Kingdom
END:VEVENT
END:VCALENDAR